BEGIN:VCALENDAR
VERSION:2.0
PRODID:-//ChamberMaster//Event Calendar 2.0//EN
METHOD:PUBLISH
X-PUBLISHED-TTL:P1H
REFRESH-INTERVAL:P1H
CALSCALE:GREGORIAN
BEGIN:VTIMEZONE
TZID:America/New_York
BEGIN:DAYLIGHT
RRULE:FREQ=YEARLY;BYMONTH=3;BYDAY=2SU
DTSTART:20070101T000000
TZOFFSETFROM:-0500
TZOFFSETTO:-0400
TZNAME:Eastern Daylight Time
END:DAYLIGHT
BEGIN:STANDARD
RRULE:FREQ=YEARLY;BYMONTH=11;BYDAY=1SU
DTSTART:20070101T000000
TZOFFSETFROM:-0400
TZOFFSETTO:-0500
TZNAME:Eastern Standard Time
END:STANDARD
END:VTIMEZONE
BEGIN:VEVENT
DTSTART;TZID=America/New_York:20260512T120000
DTEND;TZID=America/New_York:20260512T133000
X-MICROSOFT-CDO-ALLDAYEVENT:FALSE
SUMMARY:2026 State of Central
DESCRIPTION:The Clemson Area Chamber of Commerce invites you to the 2026 State of Central\, taking place on Tuesday\, May 12\, at Southern Wesleyan University.Join us for an engaging and informative luncheon featuring updates from Town of Central leadership and Southern Wesleyan University. Hear key insights from Mayor Ken Dill and Dr. William D. Barker\, President of Southern Wesleyan University\, as they share updates\, priorities\, and a vision for the future of the Central community.This event brings together business leaders\, community members\, and stakeholders to connect\, stay informed\, and be part of the continued growth of Central.
X-ALT-DESC;FMTTYPE=text/html:<!DOCTYPE html><html><head><title></title></head><body aria-disabled="false" spellcheck="false"><p><meta charset="utf-8"></p><p data-end="377" data-start="225">The Clemson Area Chamber of Commerce invites you to the <strong data-end="306" data-start="281" fr-original-style="" style="font-weight: 700\;">2026 State of Central</strong>\, taking place on <strong data-end="343" data-start="324" fr-original-style="" style="font-weight: 700\;">Tuesday\, May 12</strong>\, at Southern Wesleyan University.</p><p data-end="708" data-start="379">Join us for an engaging and informative luncheon featuring updates from Town of Central leadership and Southern Wesleyan University. Hear key insights from Mayor Ken Dill and Dr. William D. Barker\, President of Southern Wesleyan University\, as they share updates\, priorities\, and a vision for the future of the Central community.</p><p data-end="865" data-start="710">This event brings together business leaders\, community members\, and stakeholders to connect\, stay informed\, and be part of the continued growth of Central.</p></body></html>
LOCATION:120 Childs Street Central SC 29630
UID:e.4519.1377608
SEQUENCE:3
DTSTAMP:20260422T100547Z
URL:https://business.clemsonareachamber.org/community-events-calendar/Details/2026-state-of-central-1626469?sourceTypeId=Hub
END:VEVENT
END:VCALENDAR
