BEGIN:VCALENDAR
VERSION:2.0
PRODID:-//ChamberMaster//Event Calendar 2.0//EN
METHOD:PUBLISH
X-PUBLISHED-TTL:P1H
REFRESH-INTERVAL:P1H
CALSCALE:GREGORIAN
BEGIN:VTIMEZONE
TZID:America/New_York
BEGIN:DAYLIGHT
RRULE:FREQ=YEARLY;BYMONTH=3;BYDAY=2SU
DTSTART:20070101T000000
TZOFFSETFROM:-0500
TZOFFSETTO:-0400
TZNAME:Eastern Daylight Time
END:DAYLIGHT
BEGIN:STANDARD
RRULE:FREQ=YEARLY;BYMONTH=11;BYDAY=1SU
DTSTART:20070101T000000
TZOFFSETFROM:-0400
TZOFFSETTO:-0500
TZNAME:Eastern Standard Time
END:STANDARD
END:VTIMEZONE
BEGIN:VEVENT
DTSTART;TZID=America/New_York:20260411T120000
DTEND;TZID=America/New_York:20260411T180000
X-MICROSOFT-CDO-ALLDAYEVENT:FALSE
SUMMARY:The Masters at The Mill
DESCRIPTION:Enjoy a day of golf-inspired fun at The Masters at The Mill\, hosted by The Central Roller Mills. This lively spring event brings the spirit of Augusta to the Upstate with a live Masters watch party\, mini golf around the mill\, themed food and drinks\, live music\, and fun photo opportunities. Whether you're playing a round on the mini course or relaxing and watching the tournament\, it’s the perfect way to spend a Saturday with friends\, family\, and fellow golf fans.
X-ALT-DESC;FMTTYPE=text/html:Enjoy a day of golf-inspired fun at The Masters at The Mill\, hosted by The Central Roller Mills. This lively spring event brings the spirit of Augusta to the Upstate with a live Masters watch party\, mini golf around the mill\, themed food and drinks\, live music\, and fun photo opportunities. Whether you're playing a round on the mini course or relaxing and watching the tournament\, it’s the perfect way to spend a Saturday with friends\, family\, and fellow golf fans.
LOCATION:300 Madden Bridge Rd Central SC 29630
UID:e.4519.1438906
SEQUENCE:3
DTSTAMP:20260422T083436Z
URL:https://business.clemsonareachamber.org/community-events-calendar/Details/the-masters-at-the-mill-1703105?sourceTypeId=Hub
END:VEVENT
END:VCALENDAR
