BEGIN:VCALENDAR
VERSION:2.0
PRODID:-//ChamberMaster//Event Calendar 2.0//EN
METHOD:PUBLISH
X-PUBLISHED-TTL:P1H
REFRESH-INTERVAL:P1H
CALSCALE:GREGORIAN
BEGIN:VTIMEZONE
TZID:America/New_York
BEGIN:DAYLIGHT
RRULE:FREQ=YEARLY;BYMONTH=3;BYDAY=2SU
DTSTART:20070101T000000
TZOFFSETFROM:-0500
TZOFFSETTO:-0400
TZNAME:Eastern Daylight Time
END:DAYLIGHT
BEGIN:STANDARD
RRULE:FREQ=YEARLY;BYMONTH=11;BYDAY=1SU
DTSTART:20070101T000000
TZOFFSETFROM:-0400
TZOFFSETTO:-0500
TZNAME:Eastern Standard Time
END:STANDARD
END:VTIMEZONE
BEGIN:VEVENT
DTSTART;TZID=America/New_York:20260425T100000
DTEND;TZID=America/New_York:20260425T140000
X-MICROSOFT-CDO-ALLDAYEVENT:FALSE
SUMMARY:Pill Take Back
DESCRIPTION:Safely dispose of unused\, unwanted\, and expired medications at the Pill Take Back event in Pickens County. This initiative helps prevent medications from falling into the wrong hands while protecting the environment. Community members are encouraged to drop off household medications—no questions asked—at designated locations. This free and convenient event is supported by local law enforcement and public health partners\, making it easy to take an important step toward a safer\, healthier community.
X-ALT-DESC;FMTTYPE=text/html:Safely dispose of unused\, unwanted\, and expired medications at the Pill Take Back event in Pickens County. This initiative helps prevent medications from falling into the wrong hands while protecting the environment. Community members are encouraged to drop off household medications—no questions asked—at designated locations. This free and convenient event is supported by local law enforcement and public health partners\, making it easy to take an important step toward a safer\, healthier community.
LOCATION:1198 Tiger Blvd\, Clemson\, SC 29631
UID:e.4519.1438842
SEQUENCE:3
DTSTAMP:20260422T083438Z
URL:https://business.clemsonareachamber.org/community-events-calendar/Details/pill-take-back-1703041?sourceTypeId=Hub
END:VEVENT
END:VCALENDAR
