BEGIN:VCALENDAR
VERSION:2.0
PRODID:-//ChamberMaster//Event Calendar 2.0//EN
METHOD:PUBLISH
X-PUBLISHED-TTL:P1H
REFRESH-INTERVAL:P1H
CALSCALE:GREGORIAN
BEGIN:VTIMEZONE
TZID:America/New_York
BEGIN:DAYLIGHT
RRULE:FREQ=YEARLY;BYMONTH=3;BYDAY=2SU
DTSTART:20070101T000000
TZOFFSETFROM:-0500
TZOFFSETTO:-0400
TZNAME:Eastern Daylight Time
END:DAYLIGHT
BEGIN:STANDARD
RRULE:FREQ=YEARLY;BYMONTH=11;BYDAY=1SU
DTSTART:20070101T000000
TZOFFSETFROM:-0400
TZOFFSETTO:-0500
TZNAME:Eastern Standard Time
END:STANDARD
END:VTIMEZONE
BEGIN:VEVENT
DTSTART;TZID=America/New_York:20260425T100000
DTEND;TZID=America/New_York:20260425T120000
X-MICROSOFT-CDO-ALLDAYEVENT:FALSE
SUMMARY:Kid Makers’ Market at the Mill
DESCRIPTION:Celebrate creativity and young talent at the Kid Makers’ Market at the Mill! This family-friendly pop-up market showcases the handmade crafts\, creative goods\, and tasty treats of local young entrepreneurs. Come explore a variety of kid-created treasures\, support the next generation of makers\, and enjoy a morning full of imagination and fun in the charming setting of Central Roller Mills. Whether shopping for unique gifts or sampling delicious bites\, there’s something for everyone in the family to enjoy.
X-ALT-DESC;FMTTYPE=text/html:Celebrate creativity and young talent at the Kid Makers’ Market at the Mill! This family-friendly pop-up market showcases the handmade crafts\, creative goods\, and tasty treats of local young entrepreneurs. Come explore a variety of kid-created treasures\, support the next generation of makers\, and enjoy a morning full of imagination and fun in the charming setting of Central Roller Mills. Whether shopping for unique gifts or sampling delicious bites\, there’s something for everyone in the family to enjoy.
LOCATION:300 Madden Bridge Rd Central SC 29630
UID:e.4519.1439128
SEQUENCE:3
DTSTAMP:20260422T083520Z
URL:https://business.clemsonareachamber.org/community-events-calendar/Details/kid-makers-market-at-the-mill-1703348?sourceTypeId=Hub
END:VEVENT
END:VCALENDAR
