BEGIN:VCALENDAR
VERSION:2.0
PRODID:-//ChamberMaster//Event Calendar 2.0//EN
METHOD:PUBLISH
X-PUBLISHED-TTL:P1H
REFRESH-INTERVAL:P1H
CALSCALE:GREGORIAN
BEGIN:VTIMEZONE
TZID:America/New_York
BEGIN:DAYLIGHT
RRULE:FREQ=YEARLY;BYMONTH=3;BYDAY=2SU
DTSTART:20070101T000000
TZOFFSETFROM:-0500
TZOFFSETTO:-0400
TZNAME:Eastern Daylight Time
END:DAYLIGHT
BEGIN:STANDARD
RRULE:FREQ=YEARLY;BYMONTH=11;BYDAY=1SU
DTSTART:20070101T000000
TZOFFSETFROM:-0400
TZOFFSETTO:-0500
TZNAME:Eastern Standard Time
END:STANDARD
END:VTIMEZONE
BEGIN:VEVENT
DTSTART;TZID=America/New_York:20260404T090000
DTEND;TZID=America/New_York:20260404T120000
X-MICROSOFT-CDO-ALLDAYEVENT:FALSE
SUMMARY:City of Clemson's Annual Easter Egg Hunt
DESCRIPTION:The City of Clemson's annual Easter Egg Hunt is sure to be an "egg-stravaganza" for the whole family! With age-specific hunt times and thousands of eggs hidden across Nettles Park\, we can't wait for everyone to hop on over and find some treats.\n📅 Saturday\, April 4\n📍 Nettles Park (102 Nettles Park Road\, Clemson\, SC)\n💲 FREE!\nTo make sure everyone has a fair shot\, we’ve divided the morning into different times:\n⏰ 9:00 AM – 9:30 AM: Sensory-Friendly Hunt (good for anyone with sound sensitivity or with small children 0-2 years old)\n⏰ 9:45 AM: 3-6 years old\n⏰ 10:15 AM: 7-9 years old\n⏰ 10:30 AM: 10-12 years old\nKeep your eyes peeled for the rare golden eggs hidden in each age group for extra special prizes\, then stick around for the bounce houses and concessions after your hunt time. 🧺 Arrive at least 15 minutes before your child's scheduled hunt time. Don't forget to bring your own basket or bag!
X-ALT-DESC;FMTTYPE=text/html:The City of Clemson's annual Easter Egg Hunt is sure to be an "egg-stravaganza" for the whole family! With age-specific hunt times and thousands of eggs hidden across Nettles Park\, we can't wait for everyone to hop on over and find some treats.\n📅 Saturday\, April 4\n📍 Nettles Park (102 Nettles Park Road\, Clemson\, SC)\n💲 FREE!\nTo make sure everyone has a fair shot\, we’ve divided the morning into different times:\n⏰ 9:00 AM – 9:30 AM: Sensory-Friendly Hunt (good for anyone with sound sensitivity or with small children 0-2 years old)\n⏰ 9:45 AM: 3-6 years old\n⏰ 10:15 AM: 7-9 years old\n⏰ 10:30 AM: 10-12 years old\nKeep your eyes peeled for the rare golden eggs hidden in each age group for extra special prizes\, then stick around for the bounce houses and concessions after your hunt time. 🧺 Arrive at least 15 minutes before your child's scheduled hunt time. Don't forget to bring your own basket or bag!
LOCATION:102 Nettles Park Road Clemson
UID:e.4519.1420490
SEQUENCE:3
DTSTAMP:20260422T085942Z
URL:https://business.clemsonareachamber.org/community-events-calendar/Details/city-of-clemson-s-annual-easter-egg-hunt-1679264?sourceTypeId=Hub
END:VEVENT
END:VCALENDAR
