BEGIN:VCALENDAR
VERSION:2.0
PRODID:-//ChamberMaster//Event Calendar 2.0//EN
METHOD:PUBLISH
X-PUBLISHED-TTL:P1H
REFRESH-INTERVAL:P1H
CALSCALE:GREGORIAN
BEGIN:VTIMEZONE
TZID:America/New_York
BEGIN:DAYLIGHT
RRULE:FREQ=YEARLY;BYMONTH=3;BYDAY=2SU
DTSTART:20070101T000000
TZOFFSETFROM:-0500
TZOFFSETTO:-0400
TZNAME:Eastern Daylight Time
END:DAYLIGHT
BEGIN:STANDARD
RRULE:FREQ=YEARLY;BYMONTH=11;BYDAY=1SU
DTSTART:20070101T000000
TZOFFSETFROM:-0400
TZOFFSETTO:-0500
TZNAME:Eastern Standard Time
END:STANDARD
END:VTIMEZONE
BEGIN:VEVENT
DTSTART;TZID=America/New_York:20260424T173000
DTEND;TZID=America/New_York:20260424T213000
X-MICROSOFT-CDO-ALLDAYEVENT:FALSE
SUMMARY:Blooms of Hope Soirée
DESCRIPTION:Celebrate an evening of beauty\, purpose\, and community at the Blooms of Hope Soirée\, hosted by the Prisma Health Baptist Easley Foundation. This elegant event brings guests together in support of advancing cancer care in our community. Presented by Sealevel Systems\, the soirée will feature an inspiring atmosphere\, meaningful connections\, and opportunities to make a lasting impact. Join us as we come together to honor hope\, resilience\, and the power of giving. Mark your calendar for Friday\, April 24th—an unforgettable evening dedicated to making a difference. Invitation and additional details to follow.
X-ALT-DESC;FMTTYPE=text/html:Celebrate an evening of beauty\, purpose\, and community at the Blooms of Hope Soirée\, hosted by the Prisma Health Baptist Easley Foundation. This elegant event brings guests together in support of advancing cancer care in our community. Presented by Sealevel Systems\, the soirée will feature an inspiring atmosphere\, meaningful connections\, and opportunities to make a lasting impact. Join us as we come together to honor hope\, resilience\, and the power of giving. Mark your calendar for Friday\, April 24th—an unforgettable evening dedicated to making a difference. Invitation and additional details to follow.
LOCATION:1904 Sitton Hill Rd Easley SC 29642-8207
UID:e.4519.1438809
SEQUENCE:3
DTSTAMP:20260422T083521Z
URL:https://business.clemsonareachamber.org/community-events-calendar/Details/blooms-of-hope-soir-e-1703008?sourceTypeId=Hub
END:VEVENT
END:VCALENDAR
