BEGIN:VCALENDAR
VERSION:2.0
PRODID:-//ChamberMaster//Event Calendar 2.0//EN
METHOD:PUBLISH
X-PUBLISHED-TTL:P1H
REFRESH-INTERVAL:P1H
CALSCALE:GREGORIAN
BEGIN:VTIMEZONE
TZID:America/New_York
BEGIN:DAYLIGHT
RRULE:FREQ=YEARLY;BYMONTH=3;BYDAY=2SU
DTSTART:20070101T000000
TZOFFSETFROM:-0500
TZOFFSETTO:-0400
TZNAME:Eastern Daylight Time
END:DAYLIGHT
BEGIN:STANDARD
RRULE:FREQ=YEARLY;BYMONTH=11;BYDAY=1SU
DTSTART:20070101T000000
TZOFFSETFROM:-0400
TZOFFSETTO:-0500
TZNAME:Eastern Standard Time
END:STANDARD
END:VTIMEZONE
BEGIN:VEVENT
DTSTART;TZID=America/New_York:20260502T090000
DTEND;TZID=America/New_York:20260502T120000
X-MICROSOFT-CDO-ALLDAYEVENT:FALSE
SUMMARY:Annual Community Shred Day
DESCRIPTION:Protect your personal information and declutter with ease at the Annual Community Shred Day\, hosted by the City of Clemson. This free\, drive-thru event allows residents to safely dispose of sensitive documents without leaving their car. Volunteers will assist with unloading\, making the process quick and convenient. Participants may bring up to four bags or boxes of residential materials\, and no need to remove staples or paper clips. Attendees are also encouraged to support Clemson Community Care through optional donations.
X-ALT-DESC;FMTTYPE=text/html:Protect your personal information and declutter with ease at the Annual Community Shred Day\, hosted by the City of Clemson. This free\, drive-thru event allows residents to safely dispose of sensitive documents without leaving their car. Volunteers will assist with unloading\, making the process quick and convenient. Participants may bring up to four bags or boxes of residential materials\, and no need to remove staples or paper clips. Attendees are also encouraged to support Clemson Community Care through optional donations.
LOCATION:200 West Ln Clemson SC 29631-1241
UID:e.4519.1438821
SEQUENCE:3
DTSTAMP:20260422T083522Z
URL:https://business.clemsonareachamber.org/community-events-calendar/Details/annual-community-shred-day-1703020?sourceTypeId=Hub
END:VEVENT
END:VCALENDAR
