BEGIN:VCALENDAR
VERSION:2.0
PRODID:-//ChamberMaster//Event Calendar 2.0//EN
METHOD:PUBLISH
X-PUBLISHED-TTL:P1H
REFRESH-INTERVAL:P1H
CALSCALE:GREGORIAN
BEGIN:VTIMEZONE
TZID:America/New_York
BEGIN:DAYLIGHT
RRULE:FREQ=YEARLY;BYMONTH=3;BYDAY=2SU
DTSTART:20070101T000000
TZOFFSETFROM:-0500
TZOFFSETTO:-0400
TZNAME:Eastern Daylight Time
END:DAYLIGHT
BEGIN:STANDARD
RRULE:FREQ=YEARLY;BYMONTH=11;BYDAY=1SU
DTSTART:20070101T000000
TZOFFSETFROM:-0400
TZOFFSETTO:-0500
TZNAME:Eastern Standard Time
END:STANDARD
END:VTIMEZONE
BEGIN:VEVENT
DTSTART;TZID=America/New_York:20260418T120000
DTEND;TZID=America/New_York:20260418T170000
X-MICROSOFT-CDO-ALLDAYEVENT:FALSE
SUMMARY:4th Annual Lil Ole Beer Festival
DESCRIPTION:Join Kite Hill Brewing Co for the 4th Annual Lil Ole Beer Festival\, a celebration of craft beer and community! Enjoy over 30 beers from 15 regional breweries while tapping your toes to the lively bluegrass tunes of the Pluff Mud String Band. Savor fresh tacos from Alazan Taco Truck\, capture memories at the free photo booth\, and spend an unforgettable afternoon with friends in the taproom and beergarden. VIP ticket holders get early access at noon\, while general admission starts at 1 PM. Designated driver tickets are also available\, so everyone can join the fun.
X-ALT-DESC;FMTTYPE=text/html:Join Kite Hill Brewing Co for the 4th Annual Lil Ole Beer Festival\, a celebration of craft beer and community! Enjoy over 30 beers from 15 regional breweries while tapping your toes to the lively bluegrass tunes of the Pluff Mud String Band. Savor fresh tacos from Alazan Taco Truck\, capture memories at the free photo booth\, and spend an unforgettable afternoon with friends in the taproom and beergarden. VIP ticket holders get early access at noon\, while general admission starts at 1 PM. Designated driver tickets are also available\, so everyone can join the fun.
LOCATION:150 Thomas Green Blvd. Clemson SC 29631
UID:e.4519.1439088
SEQUENCE:3
DTSTAMP:20260422T083549Z
URL:https://business.clemsonareachamber.org/community-events-calendar/Details/4th-annual-lil-ole-beer-festival-1703306?sourceTypeId=Hub
END:VEVENT
END:VCALENDAR
