BEGIN:VCALENDAR
VERSION:2.0
PRODID:-//ChamberMaster//Event Calendar 2.0//EN
METHOD:PUBLISH
X-PUBLISHED-TTL:P1H
REFRESH-INTERVAL:P1H
CALSCALE:GREGORIAN
BEGIN:VTIMEZONE
TZID:America/New_York
BEGIN:DAYLIGHT
RRULE:FREQ=YEARLY;BYMONTH=3;BYDAY=2SU
DTSTART:20070101T000000
TZOFFSETFROM:-0500
TZOFFSETTO:-0400
TZNAME:Eastern Daylight Time
END:DAYLIGHT
BEGIN:STANDARD
RRULE:FREQ=YEARLY;BYMONTH=11;BYDAY=1SU
DTSTART:20070101T000000
TZOFFSETFROM:-0400
TZOFFSETTO:-0500
TZNAME:Eastern Standard Time
END:STANDARD
END:VTIMEZONE
BEGIN:VEVENT
DTSTART;VALUE=DATE:20260404
DTEND;VALUE=DATE:20260406
TRANSP:TRANSPARENT
X-MICROSOFT-CDO-ALLDAYEVENT:TRUE
SUMMARY:49TH ANNUAL HISTORIC PENDLETON SPRING JUBILEE
DESCRIPTION:Take a break from spring cleaning and come experience a weekend event unlike any other. Spring Jubilee is so much more than just an ordinary art festival\; For nearly 50 years\, our organizers have poured their passion and knowledge into this event\, with the intention of making it unique and unforgettable year after year. There is something for everyone to enjoy\, so plan your trip to Pendleton today.
X-ALT-DESC;FMTTYPE=text/html:Take a break from spring cleaning and come experience a weekend event unlike any other. Spring Jubilee is so much more than just an ordinary art festival\; For nearly 50 years\, our organizers have poured their passion and knowledge into this event\, with the intention of making it unique and unforgettable year after year. There is something for everyone to enjoy\, so plan your trip to Pendleton today.
LOCATION:
UID:e.4519.1417646
SEQUENCE:3
DTSTAMP:20260422T083436Z
URL:https://business.clemsonareachamber.org/community-events-calendar/Details/49th-annual-historic-pendleton-spring-jubilee-1675748?sourceTypeId=Hub
END:VEVENT
END:VCALENDAR
