BEGIN:VCALENDAR
VERSION:2.0
PRODID:-//ChamberMaster//Event Calendar 2.0//EN
METHOD:PUBLISH
X-PUBLISHED-TTL:P1H
REFRESH-INTERVAL:P1H
CALSCALE:GREGORIAN
BEGIN:VTIMEZONE
TZID:America/New_York
BEGIN:DAYLIGHT
RRULE:FREQ=YEARLY;BYMONTH=3;BYDAY=2SU
DTSTART:20070101T000000
TZOFFSETFROM:-0500
TZOFFSETTO:-0400
TZNAME:Eastern Daylight Time
END:DAYLIGHT
BEGIN:STANDARD
RRULE:FREQ=YEARLY;BYMONTH=11;BYDAY=1SU
DTSTART:20070101T000000
TZOFFSETFROM:-0400
TZOFFSETTO:-0500
TZNAME:Eastern Standard Time
END:STANDARD
END:VTIMEZONE
BEGIN:VEVENT
DTSTART;TZID=America/New_York:20260502T100000
DTEND;TZID=America/New_York:20260502T150000
X-MICROSOFT-CDO-ALLDAYEVENT:FALSE
SUMMARY:2026 Pickens County Native Plant Jubilee
DESCRIPTION:Celebrate the beauty and importance of native plants at the 2026 Pickens County Native Plant Jubilee! Held at Liberty Elementary School\, this family-friendly event features native plant sales\, educational speakers\, craft vendors\, and delicious food trucks. Explore ways to support local ecosystems\, connect with organizations across the Upstate\, and discover how to incorporate native plants into your own space. Whether you're a seasoned gardener or just getting started\, this event offers something for everyone who loves nature\, learning\, and the outdoors.
X-ALT-DESC;FMTTYPE=text/html:Celebrate the beauty and importance of native plants at the 2026 Pickens County Native Plant Jubilee! Held at Liberty Elementary School\, this family-friendly event features native plant sales\, educational speakers\, craft vendors\, and delicious food trucks. Explore ways to support local ecosystems\, connect with organizations across the Upstate\, and discover how to incorporate native plants into your own space. Whether you're a seasoned gardener or just getting started\, this event offers something for everyone who loves nature\, learning\, and the outdoors.
LOCATION:251 N Hillcrest St Liberty SC 29657
UID:e.4519.1438894
SEQUENCE:3
DTSTAMP:20260424T082707Z
URL:https://business.clemsonareachamber.org/community-events-calendar/Details/2026-pickens-county-native-plant-jubilee-1703093?sourceTypeId=Hub
END:VEVENT
END:VCALENDAR
